BEGIN:VCALENDAR
VERSION:2.0
PRODID:-//AiBEC - Association of Insurance Building and Engineering Consultants - ECPv6.15.17.1//NONSGML v1.0//EN
CALSCALE:GREGORIAN
METHOD:PUBLISH
X-WR-CALNAME:AiBEC - Association of Insurance Building and Engineering Consultants
X-ORIGINAL-URL:https://aibec.co
X-WR-CALDESC:Events for AiBEC - Association of Insurance Building and Engineering Consultants
REFRESH-INTERVAL;VALUE=DURATION:PT1H
X-Robots-Tag:noindex
X-PUBLISHED-TTL:PT1H
BEGIN:VTIMEZONE
TZID:Australia/Brisbane
BEGIN:STANDARD
TZOFFSETFROM:+1000
TZOFFSETTO:+1000
TZNAME:AEST
DTSTART:20240101T000000
END:STANDARD
END:VTIMEZONE
BEGIN:VTIMEZONE
TZID:Australia/Sydney
BEGIN:STANDARD
TZOFFSETFROM:+1100
TZOFFSETTO:+1000
TZNAME:AEST
DTSTART:20250405T160000
END:STANDARD
BEGIN:DAYLIGHT
TZOFFSETFROM:+1000
TZOFFSETTO:+1100
TZNAME:AEDT
DTSTART:20251004T160000
END:DAYLIGHT
BEGIN:STANDARD
TZOFFSETFROM:+1100
TZOFFSETTO:+1000
TZNAME:AEST
DTSTART:20260404T160000
END:STANDARD
BEGIN:DAYLIGHT
TZOFFSETFROM:+1000
TZOFFSETTO:+1100
TZNAME:AEDT
DTSTART:20261003T160000
END:DAYLIGHT
BEGIN:STANDARD
TZOFFSETFROM:+1100
TZOFFSETTO:+1000
TZNAME:AEST
DTSTART:20270403T160000
END:STANDARD
BEGIN:DAYLIGHT
TZOFFSETFROM:+1000
TZOFFSETTO:+1100
TZNAME:AEDT
DTSTART:20271002T160000
END:DAYLIGHT
END:VTIMEZONE
BEGIN:VEVENT
DTSTART;TZID=Australia/Brisbane:20250529T110000
DTEND;TZID=Australia/Brisbane:20250529T120000
DTSTAMP:20260426T135056
CREATED:20250507T010755Z
LAST-MODIFIED:20250507T010755Z
UID:1114-1748516400-1748520000@aibec.co
SUMMARY:A solution for the prevention of structural deterioration and mould: Dincel Wall and the Waterproof System Warranty
DESCRIPTION:AiBEC will be hosting with Dincel Structural Walling \, a webinar on the following topic: \nA solution for the prevention of structural deterioration and mould: Dincel Wall and the Waterproof System Warranty  \nThe webinar presentation by Berkay Dincel will be approx. 30 minutes followed by questions from participants.  \nTo register for the webinar\, click here. 
URL:https://aibec.co/event/a-solution-for-the-prevention-of-structural-deterioration-and-mould-dincel-wall-and-the-waterproof-system-warranty/
ATTACH;FMTTYPE=image/jpeg:https://aibec.co/wp-content/uploads/events/August-Social-01.jpg
END:VEVENT
BEGIN:VEVENT
DTSTART;TZID=Australia/Brisbane:20250702T110000
DTEND;TZID=Australia/Brisbane:20250702T120000
DTSTAMP:20260426T135056
CREATED:20250613T004326Z
LAST-MODIFIED:20250613T004326Z
UID:1144-1751454000-1751457600@aibec.co
SUMMARY:Flooring Standards & Best Practices
DESCRIPTION:Wednesday\, 2nd July \n 11am AEST – 12pm AEST \nAIBEC will host Don Considine: Your Trusted Flooring Authority Director with 40+ years of experience working at ATTAR\, it will be 30 mins webinar presentation followed by questions from participants \nThis presentation provides a comprehensive technical overview of resilient and textile flooring systems\, with a strong emphasis on industry standards\, common failures\, and best practices. Key topics include: \n\nThe role of independent flooring consultancy in quality assurance and safety.\nDetailed explanations of moisture and pH testing methods (ASTM standards).\nBenefits of Slip testing.\nCritical factors for correct installation\, such as adhesive type\, subfloor preparation\, and environmental conditions.\nCommon causes of failure in vinyl\, hybrid\, and carpet flooring systems.\nComplaint handling processes and technical advice for identifying issues like adhesive failure\, weld defects\, and moisture ingress.\n\n  \nRegister your attendance via Click Here
URL:https://aibec.co/event/flooring-standards-best-practices/
ATTACH;FMTTYPE=image/jpeg:https://aibec.co/wp-content/uploads/events/August-Social-01.jpg
END:VEVENT
BEGIN:VEVENT
DTSTART;TZID=Australia/Brisbane:20250723T083000
DTEND;TZID=Australia/Brisbane:20250723T190000
DTSTAMP:20260426T135056
CREATED:20241025T025923Z
LAST-MODIFIED:20250716T015946Z
UID:608-1753259400-1753297200@aibec.co
SUMMARY:AiBEC 2025 Conference
DESCRIPTION:This will mark  AiBEC’s first conference. Delegates will benefit from face-to-face networking with professionals from across  Engineering\, Building and other Consultancies. \nThemed Achieving Better Claims Outcomes \, AiBEC’s conference is designed to give professionals the insights and knowledge they need to tackle the key issues facing their sector both now and moving into the future. \nThe AiBEC Conference registrations includes all conference sessions\, access to the exhibition\, handouts\, morning and afternoon tea\, lunch plus two-hour cocktail function. \nAttractive discounts are available for registrations made before the early bird closing date and for three or more from one organisation. \nClick here for the registration brochure \n\nProfessional Development\n\nAiBEC: 6 CPE Points \n\nVenue & Accommodation\nThe convention venue is the highly rated Amora Hotel Sydney\, 11 Jamison St\, Sydney NSW 2000 \nCompetitive accommodation rates have been negotiated and bookings can be made by click here. \nBookings should be made as soon as possible as numbers are limited. \nSponsors\n  \n            Platinum Sponsor:            \n \n   Platinum Sponsor: \n    \n  \nCocktail Sponsor: \n \n  \nGold Sponsor:       \n \n  \nAfternoon Tea & App Sponsor: \n \nCoffee Cart Sponsor: \n \n  \nSilver Sponsor: \n \n  \nSpeaker Gift Sponsor: \n \n  \nSatchel Sponsor: \n \n  \nLunch Sponsor: \n \n  \nMorning Tea Sponsor: \n \n  \n Supporting Sponsor: \n \n  \n Supporting Sponsor: \n \n  \n Supporting Sponsor: \n \n Supporting Sponsor: \n \nSupporting Sponsor: \n \n  \nSupporting Sponsor: \n \n  \nSupporting Sponsor: \n \n  \nSupporting Sponsor: \n \nTo become a sponsor \nClick here to view AiBEC-Conference-Sponsorship-Prospectus
URL:https://aibec.co/event/aibec-2025-conference/
LOCATION:Amora Jamison Sydney\, 11 Jamison Street\, Sydney\, NSW\, 2000\, Australia
CATEGORIES:Event
ATTACH;FMTTYPE=image/png:https://aibec.co/wp-content/uploads/Screenshot-2025-03-10-at-1.44.49 PM.png
END:VEVENT
BEGIN:VEVENT
DTSTART;TZID=Australia/Brisbane:20260401T110000
DTEND;TZID=Australia/Brisbane:20260401T120000
DTSTAMP:20260426T135056
CREATED:20260407T054631Z
LAST-MODIFIED:20260407T054631Z
UID:1767-1775041200-1775044800@aibec.co
SUMMARY:Webinar - AIBEC & AAT Building
DESCRIPTION:🗣️ UPCOMING WEBINAR SESSION: TradieEx – AI Consultant for Builders\, Restorers\, Engineers and Trades – Live Demo \n\nAIBEC in collaboration with Andy Barton – CEO\, Ryan Hage – Head of Governance and Compliance and Hasitha Jayatilake at AAT Building has offered their time and expertise to host a webinar for AiBEC members\, Allied Supporters and Others scheduled on April 1st\, 2026\, to show you how AI is turning hours of research into seconds of clarity.
URL:https://aibec.co/event/webinar-aibec-aat-building/
END:VEVENT
BEGIN:VEVENT
DTSTART;TZID=Australia/Sydney:20260722T080000
DTEND;TZID=Australia/Sydney:20260722T190000
DTSTAMP:20260426T135056
CREATED:20260127T044736Z
LAST-MODIFIED:20260407T015437Z
UID:1630-1784707200-1784746800@aibec.co
SUMMARY:AiBEC Conference 2026
DESCRIPTION:This year’s conference theme\, Delivering Best Practice Through Expertise in Claims Consulting \nDelegates will benefit from face-to-face networking with professionals from across Engineering\, Building and other Consultancies. \nAiBEC’s conference is designed to give professionals the insights and knowledge they need to tackle the key issues facing their sector both now and moving into the future. \nThe AiBEC Conference registrations includes all conference sessions\, access to the exhibition\, handouts\, morning and afternoon tea\, lunch plus two-hour cocktail function. \nAttractive discounts are available for registrations made before the early bird closing date and for three or more from one organisation. \nCLICK HERE FOR THE REGISTRATION BROCHURE\n\nProfessional Development\n\nAiBEC: 6 CPE Points \n\nVenue & Accommodation\nThe convention venue is the highly rated Swissotel Sydney\,68 Market St\, Sydney NSW 2000 \n \nSponsors\n            Platinum Sponsor:            \n \n 
URL:https://aibec.co/event/aibec-conference-2026/
LOCATION:Swissotel Sydney\, 68 Market St\, Sydney\, NSW\, 2000\, Australia
CATEGORIES:Event
ATTACH;FMTTYPE=image/png:https://aibec.co/wp-content/uploads/Screenshot-2026-02-19-at-3.41.46-pm.png
END:VEVENT
BEGIN:VEVENT
DTSTART;TZID=Australia/Brisbane:20261112T170000
DTEND;TZID=Australia/Brisbane:20261112T220000
DTSTAMP:20260426T135056
CREATED:20260407T060741Z
LAST-MODIFIED:20260407T060900Z
UID:1772-1794502800-1794520800@aibec.co
SUMMARY:AiBEC Black Tie Awards Night
DESCRIPTION:SAVE THE DATE – MORE INFORMATION TO BE RELEASED SHORTLY
URL:https://aibec.co/event/aibec-black-tie-awards-night/
ATTACH;FMTTYPE=image/jpeg:https://aibec.co/wp-content/uploads/Black-and-Gold-Luxury-Gala-Invitation.jpg
END:VEVENT
END:VCALENDAR